BEGIN:VCALENDAR
VERSION:2.0
PRODID:-//Milk - Bar de nuit à Rouen - ECPv6.15.20//NONSGML v1.0//EN
CALSCALE:GREGORIAN
METHOD:PUBLISH
X-ORIGINAL-URL:https://www.bar-milk.com
X-WR-CALDESC:Évènements pour Milk - Bar de nuit à Rouen
REFRESH-INTERVAL;VALUE=DURATION:PT1H
X-Robots-Tag:noindex
X-PUBLISHED-TTL:PT1H
BEGIN:VTIMEZONE
TZID:Europe/Paris
BEGIN:DAYLIGHT
TZOFFSETFROM:+0100
TZOFFSETTO:+0200
TZNAME:CEST
DTSTART:20210328T010000
END:DAYLIGHT
BEGIN:STANDARD
TZOFFSETFROM:+0200
TZOFFSETTO:+0100
TZNAME:CET
DTSTART:20211031T010000
END:STANDARD
BEGIN:DAYLIGHT
TZOFFSETFROM:+0100
TZOFFSETTO:+0200
TZNAME:CEST
DTSTART:20220327T010000
END:DAYLIGHT
BEGIN:STANDARD
TZOFFSETFROM:+0200
TZOFFSETTO:+0100
TZNAME:CET
DTSTART:20221030T010000
END:STANDARD
BEGIN:DAYLIGHT
TZOFFSETFROM:+0100
TZOFFSETTO:+0200
TZNAME:CEST
DTSTART:20230326T010000
END:DAYLIGHT
BEGIN:STANDARD
TZOFFSETFROM:+0200
TZOFFSETTO:+0100
TZNAME:CET
DTSTART:20231029T010000
END:STANDARD
END:VTIMEZONE
BEGIN:VEVENT
DTSTART;TZID=Europe/Paris:20220106T180000
DTEND;TZID=Europe/Paris:20220106T235959
DTSTAMP:20260421T144746
CREATED:20220104T014623Z
LAST-MODIFIED:20220104T014640Z
UID:307-1641492000-1641513599@www.bar-milk.com
SUMMARY:Réouverture le jeudi 6 janvier 2022
DESCRIPTION:Toute l’équipe vous souhaite une très bonne année 2022 !
URL:https://www.bar-milk.com/event/reouverture-le-jeudi-6-janvier-2022/
ATTACH;FMTTYPE=image/jpeg:https://www.bar-milk.com/wp-content/uploads/2022/01/bonne-annee-2022-copie.jpg
END:VEVENT
END:VCALENDAR