BEGIN:VCALENDAR
VERSION:2.0
PRODID:-//Milk - Bar de nuit à Rouen - ECPv6.15.20//NONSGML v1.0//EN
CALSCALE:GREGORIAN
METHOD:PUBLISH
X-ORIGINAL-URL:https://www.bar-milk.com
X-WR-CALDESC:Évènements pour Milk - Bar de nuit à Rouen
REFRESH-INTERVAL;VALUE=DURATION:PT1H
X-Robots-Tag:noindex
X-PUBLISHED-TTL:PT1H
BEGIN:VTIMEZONE
TZID:Europe/Paris
BEGIN:DAYLIGHT
TZOFFSETFROM:+0100
TZOFFSETTO:+0200
TZNAME:CEST
DTSTART:20200329T010000
END:DAYLIGHT
BEGIN:STANDARD
TZOFFSETFROM:+0200
TZOFFSETTO:+0100
TZNAME:CET
DTSTART:20201025T010000
END:STANDARD
BEGIN:DAYLIGHT
TZOFFSETFROM:+0100
TZOFFSETTO:+0200
TZNAME:CEST
DTSTART:20210328T010000
END:DAYLIGHT
BEGIN:STANDARD
TZOFFSETFROM:+0200
TZOFFSETTO:+0100
TZNAME:CET
DTSTART:20211031T010000
END:STANDARD
BEGIN:DAYLIGHT
TZOFFSETFROM:+0100
TZOFFSETTO:+0200
TZNAME:CEST
DTSTART:20220327T010000
END:DAYLIGHT
BEGIN:STANDARD
TZOFFSETFROM:+0200
TZOFFSETTO:+0100
TZNAME:CET
DTSTART:20221030T010000
END:STANDARD
BEGIN:DAYLIGHT
TZOFFSETFROM:+0100
TZOFFSETTO:+0200
TZNAME:CEST
DTSTART:20230326T010000
END:DAYLIGHT
BEGIN:STANDARD
TZOFFSETFROM:+0200
TZOFFSETTO:+0100
TZNAME:CET
DTSTART:20231029T010000
END:STANDARD
END:VTIMEZONE
BEGIN:VEVENT
DTSTART;TZID=Europe/Paris:20211202T190000
DTEND;TZID=Europe/Paris:20211202T210000
DTSTAMP:20260421T144826
CREATED:20211030T215618Z
LAST-MODIFIED:20211118T144046Z
UID:138-1638471600-1638478800@www.bar-milk.com
SUMMARY:Réseau Psy
DESCRIPTION:Une fois par mois\, le Milk et Enipse Prévention s’associent et vous proposent de rencontrer un psychologue/sexologue. Consultations anonymes et gratuites dès 19h00.
URL:https://www.bar-milk.com/event/reseau-psy/
LOCATION:Milk\, 1bis rue du père Adam\, Rouen\, 76000\, France
ATTACH;FMTTYPE=image/jpeg:https://www.bar-milk.com/wp-content/uploads/2021/10/Affiche-psy_01-1-918x1024-1.jpg
END:VEVENT
BEGIN:VEVENT
DTSTART;TZID=Europe/Paris:20211218T180000
DTEND;TZID=Europe/Paris:20211219T020000
DTSTAMP:20260421T144826
CREATED:20211204T232014Z
LAST-MODIFIED:20211204T232043Z
UID:292-1639850400-1639879200@www.bar-milk.com
SUMMARY:Ça sent le sapin 2021 !
DESCRIPTION:Ça sent le sapin est de retour en 2021 (enfin on l’espère…). Venez fêter Noël avant l’heure en notre compagnie le samedi 18 décembre et gagnez des cadeaux !Places de cinéma\, cartes cadeaux\, bouteilles de champagne\, cours de Yoga… Le tout accompagné de notre délicieux vin chaud et de délicieux chocolats 🙂
URL:https://www.bar-milk.com/event/ca-sent-le-sapin-2021/
ATTACH;FMTTYPE=image/jpeg:https://www.bar-milk.com/wp-content/uploads/2021/12/sapin-2021.jpg
END:VEVENT
BEGIN:VEVENT
DTSTART;TZID=Europe/Paris:20211223T180000
DTEND;TZID=Europe/Paris:20211224T020000
DTSTAMP:20260421T144826
CREATED:20211221T150723Z
LAST-MODIFIED:20211221T150723Z
UID:297-1640282400-1640311200@www.bar-milk.com
SUMMARY:La dernière soirée de l'année !
DESCRIPTION:Jeudi 23 décembre\, c’est la dernière de l’année ! Nous serons de retour le jeudi 6 janvier 2022. D’ici là\, nous vous souhaitons de très bonnes fêtes de fin d’année et prenez soin de vous
URL:https://www.bar-milk.com/event/la-derniere-soiree-de-lannee-milk-rouen/
ATTACH;FMTTYPE=image/jpeg:https://www.bar-milk.com/wp-content/uploads/2021/12/fin-2021-copie.jpg
END:VEVENT
BEGIN:VEVENT
DTSTART;TZID=Europe/Paris:20211224T000000
DTEND;TZID=Europe/Paris:20220105T235959
DTSTAMP:20260421T144826
CREATED:20211221T151557Z
LAST-MODIFIED:20211221T151558Z
UID:300-1640304000-1641427199@www.bar-milk.com
SUMMARY:Fermeture pour congés
DESCRIPTION:Toute l’équipe recharge ses batteries jusqu’au jeudi 6 janvier. Nous vous souhaitons plein de bonheur pour les fêtes de fin d’année et à très bientôt !
URL:https://www.bar-milk.com/event/fermeture-pour-conges/
ATTACH;FMTTYPE=image/jpeg:https://www.bar-milk.com/wp-content/uploads/2021/12/closed-2021-2022.jpg
END:VEVENT
END:VCALENDAR